BEGIN:VCALENDAR
VERSION:2.0
PRODID:-//wp-events-plugin.com//7.2.3.1//EN
BEGIN:VEVENT
UID:7@hgf-am.dk
DTSTART:20260806T080000Z
DTEND:20260806T130000Z
DTSTAMP:20260421T090200Z
URL:https://hgf-am.dk/events/alletiders-atletikskole/
SUMMARY:Alletiders Atletikskole
DESCRIPTION:Alletiders Atletikskole\nEn dag med fart\, spring og masser af 
 atletik\nKom og vær med\, når HGF Atletik inviterer til atletikskole for
  børn og unge.\n\nHer får deltagerne en sjov og aktiv dag med løb\, spr
 ing og kast - og mulighed for at opleve glæden ved en alsidig idræt.\n\n
 Undervejs er der også fokus på fællesskab\, leg og gode oplevelser.\n\n
 Medbring idrætstøj og sko til al slags vejr samt en madpakke og drikkedu
 nk.\nDer serveres frugt og saftevand.\n\nTilmeld dig via:\nhttps://aktivfe
 rie.herning.dk/tilmeld-dig-en-aktiv-ferie-aktivitet
LOCATION:Herning Atletikstadion\, H.P. Hansensvej 6B (Indkørsel via Nørho
 lmvej)\, Herning\, 7400\, 
X-APPLE-STRUCTURED-LOCATION;VALUE=URI;X-ADDRESS=H.P. Hansensvej 6B (Indkør
 sel via Nørholmvej)\, Herning\, 7400\, ;X-APPLE-RADIUS=100;X-TITLE=Hernin
 g Atletikstadion:geo:0,0
END:VEVENT
END:VCALENDAR